BEGIN:VCALENDAR
VERSION:2.0
PRODID:-//Pioneer Valley Bonsai Society - ECPv6.15.20//NONSGML v1.0//EN
CALSCALE:GREGORIAN
METHOD:PUBLISH
X-ORIGINAL-URL:https://pvbonsai.org
X-WR-CALDESC:Events for Pioneer Valley Bonsai Society
REFRESH-INTERVAL;VALUE=DURATION:PT1H
X-Robots-Tag:noindex
X-PUBLISHED-TTL:PT1H
BEGIN:VTIMEZONE
TZID:America/New_York
BEGIN:DAYLIGHT
TZOFFSETFROM:-0500
TZOFFSETTO:-0400
TZNAME:EDT
DTSTART:20250309T070000
END:DAYLIGHT
BEGIN:STANDARD
TZOFFSETFROM:-0400
TZOFFSETTO:-0500
TZNAME:EST
DTSTART:20251102T060000
END:STANDARD
BEGIN:DAYLIGHT
TZOFFSETFROM:-0500
TZOFFSETTO:-0400
TZNAME:EDT
DTSTART:20260308T070000
END:DAYLIGHT
BEGIN:STANDARD
TZOFFSETFROM:-0400
TZOFFSETTO:-0500
TZNAME:EST
DTSTART:20261101T060000
END:STANDARD
BEGIN:DAYLIGHT
TZOFFSETFROM:-0500
TZOFFSETTO:-0400
TZNAME:EDT
DTSTART:20270314T070000
END:DAYLIGHT
BEGIN:STANDARD
TZOFFSETFROM:-0400
TZOFFSETTO:-0500
TZNAME:EST
DTSTART:20271107T060000
END:STANDARD
END:VTIMEZONE
BEGIN:VEVENT
DTSTART;TZID=America/New_York:20260519T190000
DTEND;TZID=America/New_York:20260519T210000
DTSTAMP:20260425T112621
CREATED:20260410T002212Z
LAST-MODIFIED:20260415T043520Z
UID:688-1779217200-1779224400@pvbonsai.org
SUMMARY:Monthly Meeting May
DESCRIPTION:Join the club’s Monthly Meeting featuring guest artist Young Choe\, a Kusamono artist. Choe will lead an evening demonstration focused on Kusamono\, sharing techniques\, insights\, and best practices. \nKusamono are potted arrangements of wild grasses and flowers in unique pots or trays selected to suggest a season or place. \n– Excerpted from Young Choe’s website \nStarting at 6:00pm\, Choe will also host a hands-on workshop. Be sure to check out the Kusamono Workshop with Young Choe for more details. Non-participating observers are welcome to attend. \nLearn more about Choe and her work at KusamonoChoe.com. \n\nLocation: Captain Charles Leonard House\, 663 Main Street\, Agawam\, MA\, unless otherwise noted in the schedule above. Meetings are typically held on the third Tuesday of each month at 7:00 p.m. and are open to the public. \nMonthly Raffle + Free Tickets: Society members of the Pioneer Valley Bonsai Society are invited to purchase raffle tickets for a chance to win donated bonsai trees\, pots\, and other bonsai items + BONUS: Bring a bonsai to share and double your raffle tickets!
URL:https://pvbonsai.org/event/monthly-meeting-may/
LOCATION:Captain Charles Leonard House\, 663 Main Street\, Agawam\, MA\, 01001\, United States
CATEGORIES:Monthly Meetings
ATTACH;FMTTYPE=image/jpeg:https://pvbonsai.org/wp-content/uploads/2026/01/pv-monthly-meeting.jpg
END:VEVENT
END:VCALENDAR